BEGIN:VCALENDAR
VERSION:2.0
PRODID:-//Society of Plastics Engineers—South Texas - ECPv6.15.20//NONSGML v1.0//EN
CALSCALE:GREGORIAN
METHOD:PUBLISH
X-WR-CALNAME:Society of Plastics Engineers—South Texas
X-ORIGINAL-URL:https://spe-stx.org
X-WR-CALDESC:Events for Society of Plastics Engineers—South Texas
REFRESH-INTERVAL;VALUE=DURATION:PT1H
X-Robots-Tag:noindex
X-PUBLISHED-TTL:PT1H
BEGIN:VTIMEZONE
TZID:America/Chicago
BEGIN:DAYLIGHT
TZOFFSETFROM:-0600
TZOFFSETTO:-0500
TZNAME:CDT
DTSTART:20250309T080000
END:DAYLIGHT
BEGIN:STANDARD
TZOFFSETFROM:-0500
TZOFFSETTO:-0600
TZNAME:CST
DTSTART:20251102T070000
END:STANDARD
BEGIN:DAYLIGHT
TZOFFSETFROM:-0600
TZOFFSETTO:-0500
TZNAME:CDT
DTSTART:20260308T080000
END:DAYLIGHT
BEGIN:STANDARD
TZOFFSETFROM:-0500
TZOFFSETTO:-0600
TZNAME:CST
DTSTART:20261101T070000
END:STANDARD
BEGIN:DAYLIGHT
TZOFFSETFROM:-0600
TZOFFSETTO:-0500
TZNAME:CDT
DTSTART:20270314T080000
END:DAYLIGHT
BEGIN:STANDARD
TZOFFSETFROM:-0500
TZOFFSETTO:-0600
TZNAME:CST
DTSTART:20271107T070000
END:STANDARD
END:VTIMEZONE
BEGIN:VEVENT
DTSTART;TZID=America/Chicago:20260602T171500
DTEND;TZID=America/Chicago:20260602T220000
DTSTAMP:20260423T080939
CREATED:20260423T111638Z
LAST-MODIFIED:20260423T111638Z
UID:8641-1780420500-1780437600@spe-stx.org
SUMMARY:SPE-STX at Daiken Park Astros vs Pirates
DESCRIPTION:
URL:https://spe-stx.org/event/spe-stx-at-daiken-park-astros-vs-pirates/
LOCATION:Daiken Park\, 501 Crawford St\, Houston\, TX\, 77002\, United States
ORGANIZER;CN="Janell Helton":MAILTO:jdhelton@comcast.net
END:VEVENT
END:VCALENDAR